BEGIN:VCALENDAR
VERSION:2.0
PRODID:-//ZContent.net//ZapCalLib 1.0//EN
CALSCALE:GREGORIAN
METHOD:PUBLISH
BEGIN:VEVENT
SUMMARY:Kiedy dziewczyna staje się kobietą, a chłopak — mężczyzną? 
 Stanowisko PTNT dotyczące nadciśnienia tętniczego u młodych dorosłych
DTSTART:20231213T180000
DTEND:20231213T192500
UID:Kiedy dziewczyna staje się kobietą, a chłopak — mężczyzną? Stan
 owisko PTNT dotyczące nadciśnienia tętniczego u młodych dorosłych3674
 0_1776722234
DTSTAMP:20260420T215714
Description:
END:VEVENT
END:VCALENDAR
