BEGIN:VCALENDAR
VERSION:2.0
PRODID:-//ZContent.net//ZapCalLib 1.0//EN
CALSCALE:GREGORIAN
METHOD:PUBLISH
BEGIN:VEVENT
SUMMARY:Leczenie izolowanego skurczowego nadciśnienia tętniczego u młodz
 ieży — leki czy boisko?
DTSTART:20231213T173000
DTEND:20231213T185500
UID:Leczenie izolowanego skurczowego nadciśnienia tętniczego u młodzież
 y — leki czy boisko?36738_1776722234
DTSTAMP:20260420T215714
Description:
END:VEVENT
END:VCALENDAR
