BEGIN:VCALENDAR
VERSION:2.0
PRODID:-//ZContent.net//ZapCalLib 1.0//EN
CALSCALE:GREGORIAN
METHOD:PUBLISH
BEGIN:VEVENT
SUMMARY:Dlaczego nadciśnienie tętnicze u dzieci i młodzieży szkodzi —
  co wiemy o nadciśnieniowym uszkodzeniu narządowym u dzieci i młodzież
 y?
DTSTART:20231213T170500
DTEND:20231213T183000
UID:Dlaczego nadciśnienie tętnicze u dzieci i młodzieży szkodzi — co 
 wiemy o nadciśnieniowym uszkodzeniu narządowym u dzieci i młodzieży?36
 736_1776722242
DTSTAMP:20260420T215722
Description:
END:VEVENT
END:VCALENDAR
